BEGIN:VCALENDAR
VERSION:2.0
PRODID:DPCALENDAR
CALSCALE:GREGORIAN
BEGIN:VTIMEZONE
TZID:UTC
X-MICROSOFT-CDO-TZID:0
END:VTIMEZONE
X-WR-TIMEZONE:UTC
BEGIN:VEVENT
DTSTART;TZID=UTC:20210726T080000
DTEND;TZID=UTC:20210730T150000
UID:F8AA0334-450D-4376-A273-3699D1EC490D
SUMMARY:RSC Fußballcamp
DTSTAMP:20210223T151812Z
DESCRIPTION:Hier geht es zur Anmeldung und zu weiteren Informationen:
X-ALT-DESC;FMTTYPE=text/html:<p><a href="index.php/aktuelles/rsc-fussballcamp">Hier </a>geht es zur Anmeldung und zu weiteren Informationen:</p>
LAST-MODIFIED:20210223T151827Z
X-ACCESS:1
X-HITS:988
X-URL:
X-COLOR:BFBFBF
END:VEVENT
END:VCALENDAR